BEGIN:VCALENDAR
PRODID:-//TERMINALFOUR//SITEMANAGER V7.3//EN
VERSION:2.0
BEGIN:VEVENT
DTSTART:20170302T083000
LOCATION:Braamfontein Campus West 91¿´Æ¬Íø Club
DESCRIPTION:The Centre for Learning, Teaching and Development will host this symposiumThe keynote speaker is Professor Brenda Liebowitz from the University of Johannesburg. The programme is available on request.
X-ALT-DESC;FMTTYPE=text/html:The Centre for Learning, Teaching and Development will host this symposium
The keynote speaker is Professor Brenda Liebowitz from the University of Johannesburg. The programme is available on request.
SUMMARY:Decolonising the curriculum END:VEVENT END:VCALENDAR